BEGIN:VCALENDAR
VERSION:2.0
PRODID:-//Escola Municipal de Música de Llinars - ECPv5.7.0//NONSGML v1.0//EN
CALSCALE:GREGORIAN
METHOD:PUBLISH
X-WR-CALNAME:Escola Municipal de Música de Llinars
X-ORIGINAL-URL:https://emmllinars.amicsdelaunio.cat
X-WR-CALDESC:Esdeveniments per Escola Municipal de Música de Llinars
BEGIN:VTIMEZONE
TZID:Europe/Helsinki
BEGIN:DAYLIGHT
TZOFFSETFROM:+0200
TZOFFSETTO:+0300
TZNAME:EEST
DTSTART:20260329T010000
END:DAYLIGHT
BEGIN:STANDARD
TZOFFSETFROM:+0300
TZOFFSETTO:+0200
TZNAME:EET
DTSTART:20261025T010000
END:STANDARD
END:VTIMEZONE
BEGIN:VEVENT
DTSTART;TZID=Europe/Helsinki:20260531T100000
DTEND;TZID=Europe/Helsinki:20260531T133000
DTSTAMP:20260422T162922
CREATED:20260312T152206Z
LAST-MODIFIED:20260312T153749Z
UID:4269-1780221600-1780234200@emmllinars.amicsdelaunio.cat
SUMMARY:Concert òpera infantil: 89 segons per a mitjanit
DESCRIPTION:Els cors A-Sons i U-Sound presenten “89 segons per a mitjanit” que combina dramatúrgia coral\, música original i projeccions audiovisuals immersives\, en un relat que és alhora denúncia i renaixement. Tant el text com la música són inèdits\, fruit d’un procés de cocreació comunitària que involucra infants\, famílies\, professorat i artistes de tot el territori. Com fem amb aquest projecte bianual\, hi participaran alumnes d’una escola del municipi\, enguany l’alumnat de 4t de Primària de l’escola Salvador Sanromà. \nÉs el primer projecte operístic de cocreació educativa a Catalunya. Un cant a la veu de la infància\, a la memòria col·lectiva i a la necessitat d’imaginar un nou demà. En un futur no massa llunyà\, un grup d’infants es desperta dins d’un búnquer subterrani: l’INF-054. Aïllats del món exterior\, intenten comprendre què ha passat i perquè són allà. La veu d’una megafonia els informa que han estat escollits per sobreviure al col·lapse del planeta\, però no triguen massa a descobrir que el veritable perill no és fora sinó dins del sistema que els ha tancat. \n  \nDirecció artística i musical: Guillermo Lana \nDirecció d’escena: Jordi Riera\, Mireia Pons i Rosa Ponsi \n 
URL:https://emmllinars.amicsdelaunio.cat/agenda/concert-opera-infantil-89-segons-per-a-mitjanit/
LOCATION:Teatre Auditori de Llinars del Vallès\, Ronda Sant Antoni\, 19\, Llinars del Vallès\, Barcelona\, 08450
ATTACH;FMTTYPE=image/webp:https://emmllinars.amicsdelaunio.cat/wp-content/uploads/2026/03/489321763138323_1.webp
END:VEVENT
END:VCALENDAR