BEGIN:VCALENDAR
VERSION:2.0
PRODID:-//Escola Municipal de Música de Llinars - ECPv5.7.0//NONSGML v1.0//EN
CALSCALE:GREGORIAN
METHOD:PUBLISH
X-WR-CALNAME:Escola Municipal de Música de Llinars
X-ORIGINAL-URL:https://emmllinars.amicsdelaunio.cat
X-WR-CALDESC:Esdeveniments per Escola Municipal de Música de Llinars
BEGIN:VTIMEZONE
TZID:Europe/Helsinki
BEGIN:DAYLIGHT
TZOFFSETFROM:+0200
TZOFFSETTO:+0300
TZNAME:EEST
DTSTART:20260329T010000
END:DAYLIGHT
BEGIN:STANDARD
TZOFFSETFROM:+0300
TZOFFSETTO:+0200
TZNAME:EET
DTSTART:20261025T010000
END:STANDARD
END:VTIMEZONE
BEGIN:VEVENT
DTSTART;TZID=Europe/Helsinki:20260516T090000
DTEND;TZID=Europe/Helsinki:20260517T170000
DTSTAMP:20260422T164034
CREATED:20260312T151352Z
LAST-MODIFIED:20260312T151352Z
UID:4265-1778922000-1779037200@emmllinars.amicsdelaunio.cat
SUMMARY:Cap de setmana d'assaig
DESCRIPTION:Els cors d’Inicis 1\, 2 i 3 i els cors A-Sons i U-Sound passaran plegats un cap de setmana de treball i convivència abans del concert de final de curs. És un moment fantàstic per a conèixer-nos millor mentre reforcem el treball de preparació del concert de final de curs.
URL:https://emmllinars.amicsdelaunio.cat/agenda/cap-de-setmana-dassaig/
LOCATION:Casa de colònies Mogent\, Llinars del Vallès\, Barcelona\, 08450\, Espanya
ATTACH;FMTTYPE=image/jpeg:https://emmllinars.amicsdelaunio.cat/wp-content/uploads/2026/03/WhatsApp-Image-2025-05-12-at-14.47.18-4-1.jpg
END:VEVENT
END:VCALENDAR